BEGIN:VCALENDAR
VERSION:2.0
PRODID:-//Tukios.com/
BEGIN:VEVENT
UID:02bc45a0-0024-442d-88ac-d462644203bf@www.osheimschmidt.com
DTSTAMP:20260422T074519Z
DTSTART:20260913T170000Z
DTEND:20260913T180000Z
SUMMARY:Memorial Gathering
DESCRIPTION:Military honors will be presented in honor of Don Barnett's 
	military service.
URL:https://www.osheimschmidt.com/obituaries/donald-barnett
LOCATION:VFW Memorial Chapel Old Stone Rd  Sturgis SD 57785
GEO:44.3945862;-103.4974627
END:VEVENT
END:VCALENDAR