BEGIN:VCALENDAR
VERSION:2.0
PRODID:-//Tukios.com/
BEGIN:VEVENT
UID:ebec3a34-8f5a-416f-86cc-9e884d94535a@www.osheimschmidt.com
DTSTAMP:20260420T011826Z
DTSTART:20260502T160000Z
DTEND:20260502T170000Z
SUMMARY:Memorial Service
DESCRIPTION:
URL:https://www.osheimschmidt.com/obituaries/linda-plett
LOCATION:Osheim & Schmidt Funeral Home 2700 Jackson Blvd  Rapid City SD 
	57702
GEO:44.0697243;-103.2643716
END:VEVENT
END:VCALENDAR