BEGIN:VCALENDAR
VERSION:2.0
PRODID:-//Tukios.com/
BEGIN:VEVENT
UID:3d96236d-54aa-49b6-bbd1-11ebc1afb203@www.osheimschmidt.com
DTSTAMP:20260423T220125Z
DTSTART:20260501T150000Z
DTEND:20260501T160000Z
SUMMARY:Visitation
DESCRIPTION:
URL:https://www.osheimschmidt.com/obituaries/mariann-averill
LOCATION:Stenshoel-Houske Funeral Home 123 East 4th Street  Crookston MN 
	56716
GEO:47.776344;-96.6034205
END:VEVENT
END:VCALENDAR