BEGIN:VCALENDAR
VERSION:2.0
PRODID:-//Tukios.com/
BEGIN:VEVENT
UID:62eb1265-ffb8-490c-a4e1-e231bc022f45@www.osheimschmidt.com
DTSTAMP:20260425T014659Z
DTSTART:20260428T180000Z
DTEND:20260428T190000Z
SUMMARY:Visitation
DESCRIPTION:
URL:https://www.osheimschmidt.com/obituaries/william-muldoon
LOCATION:Osheim & Schmidt Funeral Home 2700 Jackson Blvd  Rapid City SD 
	57702
GEO:44.0697243;-103.2643716
END:VEVENT
END:VCALENDAR