BEGIN:VCALENDAR
VERSION:2.0
PRODID:-//Tukios.com/
BEGIN:VEVENT
UID:5f05766b-9480-4a2d-94d9-e21b21f0e4c1@www.osheimschmidt.com
DTSTAMP:20260425T014945Z
DTSTART:20260428T193000Z
DTEND:20260428T203000Z
SUMMARY:Burial
DESCRIPTION:
URL:https://www.osheimschmidt.com/obituaries/william-muldoon
LOCATION:Black Hills National Cemetery 20901 Pleasant Valley Dr  Sturgis 
	SD 57785
GEO:44.3702688;-103.4745563
END:VEVENT
END:VCALENDAR